BEGIN:VCALENDAR
VERSION:2.0
PRODID:-//HC Standard - ECPv5.4.0.2//NONSGML v1.0//EN
CALSCALE:GREGORIAN
METHOD:PUBLISH
X-WR-CALNAME:HC Standard
X-ORIGINAL-URL:https://hcstandard.lu
X-WR-CALDESC:Events for HC Standard
BEGIN:VTIMEZONE
TZID:UTC
BEGIN:STANDARD
TZOFFSETFROM:+0000
TZOFFSETTO:+0000
TZNAME:UTC
DTSTART:20210101T000000
END:STANDARD
END:VTIMEZONE
BEGIN:VEVENT
DTSTART;TZID=UTC:20210515T190000
DTEND;TZID=UTC:20210515T190000
DTSTAMP:20210420T200511
CREATED:20210307T201033Z
LAST-MODIFIED:20210307T201033Z
UID:2698-1621105200-1621105200@hcstandard.lu
SUMMARY:Dammen HC Standard - HC Redange
DESCRIPTION:
URL:https://hcstandard.lu/event/dammen-hc-standard-hc-redange-2/
END:VEVENT
END:VCALENDAR