BEGIN:VCALENDAR
VERSION:2.0
PRODID:-//HC Standard - ECPv5.4.0.2//NONSGML v1.0//EN
CALSCALE:GREGORIAN
METHOD:PUBLISH
X-WR-CALNAME:HC Standard
X-ORIGINAL-URL:https://hcstandard.lu
X-WR-CALDESC:Events for HC Standard
BEGIN:VTIMEZONE
TZID:UTC
BEGIN:STANDARD
TZOFFSETFROM:+0000
TZOFFSETTO:+0000
TZNAME:UTC
DTSTART:20210101T000000
END:STANDARD
END:VTIMEZONE
BEGIN:VEVENT
DTSTART;TZID=UTC:20210417T180000
DTEND;TZID=UTC:20210417T180000
DTSTAMP:20210420T200437
CREATED:20210307T201006Z
LAST-MODIFIED:20210307T201006Z
UID:2688-1618682400-1618682400@hcstandard.lu
SUMMARY:Hären HB Bartreng - HC Standard
DESCRIPTION:
URL:https://hcstandard.lu/event/haeren-hb-bartreng-hc-standard/
END:VEVENT
END:VCALENDAR